BEGIN:VCALENDAR
VERSION:2.0
CALSCALE:GREGORIAN
PRODID:-//Diputació de Barcelona//DibaCMS//EN
BEGIN:VEVENT
UID:15314
DTSTAMP:20260425T012607
DTSTART:20220930T203000
DTEND:20220930T203000
SUMMARY:Cinema a la fresca al Benviure
LOCATION:C. de Sant Mateu, 20 08755 Castellbisbal
METHOD:PUBLISH
X-WR-CALNAME:comunicacio@castellbisbal.cat
X-WR-TIMEZONE:Europe/Madrid
DESCRIPTION:A les 20.30 h,  a l'escola Benviure

URI:https://www.castellbisbal.cat/actualitat/agenda/cinema-a-la-fresca-al-benviure.html
CLASS:PUBLIC
END:VEVENT
END:VCALENDAR
