BEGIN:VCALENDAR
VERSION:2.0
CALSCALE:GREGORIAN
PRODID:-//Diputació de Barcelona//DibaCMS//EN
BEGIN:VEVENT
UID:15323
DTSTAMP:20260424T174657
DTSTART:20221014T220000
DTEND:20221014T220000
SUMMARY:Concert de Gorka Garay amb Strings Band
LOCATION:Av. de Pau Casals, 16 08755 Castellbisbal
METHOD:PUBLISH
X-WR-CALNAME:comunicacio@castellbisbal.cat
X-WR-TIMEZONE:Europe/Madrid
DESCRIPTION:CONCERT AJORNAT AL 2023

URI:https://www.castellbisbal.cat/actualitat/agenda/concert-de-gorka-garay-amb-strings-band.html
CLASS:PUBLIC
END:VEVENT
END:VCALENDAR
