BEGIN:VCALENDAR
VERSION:2.0
CALSCALE:GREGORIAN
PRODID:-//Diputació de Barcelona//DibaCMS//EN
BEGIN:VEVENT
UID:15325
DTSTAMP:20260423T234038
DTSTART:20221105T190000
DTEND:20221105T190000
SUMMARY:Música en directe. Bonaire amb Arturo Gaya
LOCATION:Av. de Pau Casals, 16 08755 Castellbisbal
METHOD:PUBLISH
X-WR-CALNAME:comunicacio@castellbisbal.cat
X-WR-TIMEZONE:Europe/Madrid
DESCRIPTION:A les 19:00 h, a l'Auditori d'Els Costals




URI:https://www.castellbisbal.cat/actualitat/agenda/musica-en-directe-bonaire-amb-arturo-gaya.html
CLASS:PUBLIC
END:VEVENT
END:VCALENDAR
