BEGIN:VCALENDAR
VERSION:2.0
CALSCALE:GREGORIAN
PRODID:-//Diputació de Barcelona//DibaCMS//EN
BEGIN:VEVENT
UID:15332
DTSTAMP:20260423T230401
DTSTART:20221103T190000
DTEND:20221103T190000
SUMMARY:Conferència. Diccionari del cinema negre (M-Z)
LOCATION:Av. de Pau Casals, 16 08755 Castellbisbal
METHOD:PUBLISH
X-WR-CALNAME:comunicacio@castellbisbal.cat
X-WR-TIMEZONE:Europe/Madrid
DESCRIPTION:A les 19.00 h, a l'Espai Foier d'Els Costals

URI:https://www.castellbisbal.cat/actualitat/agenda/conferencia-diccionari-del-cinema-negre-m-z.html
CLASS:PUBLIC
END:VEVENT
END:VCALENDAR
