BEGIN:VCALENDAR
VERSION:2.0
CALSCALE:GREGORIAN
PRODID:-//Diputació de Barcelona//DibaCMS//EN
BEGIN:VEVENT
UID:15335
DTSTAMP:20260423T200318
DTSTART:20221130T190000
DTEND:20221130T190000
SUMMARY:Conferència. L'únic que falta a la teva vida... ets tu
LOCATION:Av. de Pau Casals, 16 08755 Castellbisbal
METHOD:PUBLISH
X-WR-CALNAME:comunicacio@castellbisbal.cat
X-WR-TIMEZONE:Europe/Madrid
DESCRIPTION:A les 19.00 h, a l'Espai Foier d'Els Costals

URI:https://www.castellbisbal.cat/actualitat/agenda/conferencia-lunic-que-falta-a-la-teva-vida-ets-tu.html
CLASS:PUBLIC
END:VEVENT
END:VCALENDAR
