BEGIN:VCALENDAR
VERSION:2.0
CALSCALE:GREGORIAN
PRODID:-//Diputació de Barcelona//DibaCMS//EN
BEGIN:VEVENT
UID:15338
DTSTAMP:20260424T120611
DTSTART:20221015T110000
DTEND:20221015T110000
SUMMARY:Bibliolab Spider-Man: taller de modelatge amb Jumping Clay
LOCATION:Av. de Pau Casals, 16 08755 Castellbisbal
METHOD:PUBLISH
X-WR-CALNAME:comunicacio@castellbisbal.cat
X-WR-TIMEZONE:Europe/Madrid
DESCRIPTION:A les 11.00 h, a la Biblioteca Municipal Josep Mateu i Miró

URI:https://www.castellbisbal.cat/actualitat/agenda/biblioteca/bibliolab-spider-man-taller-de-modelatge-amb-jumping-clay.html
CLASS:PUBLIC
END:VEVENT
END:VCALENDAR
