BEGIN:VCALENDAR
VERSION:2.0
CALSCALE:GREGORIAN
PRODID:-//Diputació de Barcelona//DibaCMS//EN
BEGIN:VEVENT
UID:15339
DTSTAMP:20260424T235326
DTSTART:20221022T120000
DTEND:20221022T120000
SUMMARY:Hora del conte: Bruixes i bruixots
LOCATION:Av. de Pau Casals, 16 08755 Castellbisbal
METHOD:PUBLISH
X-WR-CALNAME:comunicacio@castellbisbal.cat
X-WR-TIMEZONE:Europe/Madrid
DESCRIPTION:A les 12.00 h, a la Biblioteca Josep Mateu i Miró

URI:https://www.castellbisbal.cat/actualitat/agenda/biblioteca/hora-del-conte-bruixes-i-bruixots.html
CLASS:PUBLIC
END:VEVENT
END:VCALENDAR
