BEGIN:VCALENDAR
VERSION:2.0
CALSCALE:GREGORIAN
PRODID:-//Diputació de Barcelona//DibaCMS//EN
BEGIN:VEVENT
UID:15341
DTSTAMP:20260424T153834
DTSTART:20221102T110000
DTEND:20221125T110000
SUMMARY:Exposició: Dones de la mar
LOCATION:Av. de Pau Casals, 16 08755 Castellbisbal
METHOD:PUBLISH
X-WR-CALNAME:comunicacio@castellbisbal.cat
X-WR-TIMEZONE:Europe/Madrid
DESCRIPTION:Del 2 al 25 de novembre, a la Biblioteca Josep Mateu i Miró

URI:https://www.castellbisbal.cat/actualitat/agenda/biblioteca/exposicio-dones-de-la-mar.html
CLASS:PUBLIC
END:VEVENT
END:VCALENDAR
