BEGIN:VCALENDAR
VERSION:2.0
CALSCALE:GREGORIAN
PRODID:-//Diputació de Barcelona//DibaCMS//EN
BEGIN:VEVENT
UID:15342
DTSTAMP:20260423T213911
DTSTART:20221105T110000
DTEND:20221105T110000
SUMMARY:Hora del conte en anglès: Story Time "Trick or treat"
LOCATION:Av. de Pau Casals, 16 08755 Castellbisbal
METHOD:PUBLISH
X-WR-CALNAME:comunicacio@castellbisbal.cat
X-WR-TIMEZONE:Europe/Madrid
DESCRIPTION:Dues sessions, la primera a les 11.00 h i la segona a les 12.00 h, a la Biblioteca. PLACES EXHAURIDES!

URI:https://www.castellbisbal.cat/actualitat/agenda/biblioteca/hora-del-conte-en-angles-story-time-trick-or-treat.html
CLASS:PUBLIC
END:VEVENT
END:VCALENDAR
