BEGIN:VCALENDAR
VERSION:2.0
CALSCALE:GREGORIAN
PRODID:-//Diputació de Barcelona//DibaCMS//EN
BEGIN:VEVENT
UID:15350
DTSTAMP:20260424T203006
DTSTART:20221119T190000
DTEND:20221119T190000
SUMMARY:Teatre. Camps de maduixes
LOCATION:
METHOD:PUBLISH
X-WR-CALNAME:comunicacio@castellbisbal.cat
X-WR-TIMEZONE:Europe/Madrid
DESCRIPTION:A les 19.00 h, a l'Auditori d'Els Costals

URI:https://www.castellbisbal.cat/actualitat/agenda/teatre-camps-de-maduixes.html
CLASS:PUBLIC
END:VEVENT
END:VCALENDAR
