BEGIN:VCALENDAR
VERSION:2.0
CALSCALE:GREGORIAN
PRODID:-//Diputació de Barcelona//DibaCMS//EN
BEGIN:VEVENT
UID:15353
DTSTAMP:20260424T022127
DTSTART:20221007T170000
DTEND:20221030T170000
SUMMARY:Exposició "Melodia visual XV Flora i fauna"
LOCATION:Av. de Pau Casals, 16 08755 Castellbisbal
METHOD:PUBLISH
X-WR-CALNAME:comunicacio@castellbisbal.cat
X-WR-TIMEZONE:Europe/Madrid
DESCRIPTION:Del divendres 7 al diumenge 30  d'octubre, a la Sala d'exposicions d'Els Costals

URI:https://www.castellbisbal.cat/actualitat/agenda/exposicio-melodia-visual-xv-flora-i-fauna.html
CLASS:PUBLIC
END:VEVENT
END:VCALENDAR
