BEGIN:VCALENDAR
VERSION:2.0
CALSCALE:GREGORIAN
PRODID:-//Diputació de Barcelona//DibaCMS//EN
BEGIN:VEVENT
UID:15358
DTSTAMP:20260424T040749
DTSTART:20230107T190000
DTEND:20230107T190000
SUMMARY:Desconcerto amb l'Orquestra de Cambra de l'Empordà
LOCATION:Av. de Pau Casals, 16 08755 Castellbisbal
METHOD:PUBLISH
X-WR-CALNAME:comunicacio@castellbisbal.cat
X-WR-TIMEZONE:Europe/Madrid
DESCRIPTION:A les 19.00 h, a l'Auditori d'Els Costals

URI:https://www.castellbisbal.cat/actualitat/agenda/desconcerto-amb-lorquestra-de-cambra-de-lemporda.html
CLASS:PUBLIC
END:VEVENT
END:VCALENDAR
