BEGIN:VCALENDAR
VERSION:2.0
CALSCALE:GREGORIAN
PRODID:-//Diputació de Barcelona//DibaCMS//EN
BEGIN:VEVENT
UID:15364
DTSTAMP:20260424T162222
DTSTART:20221215T170000
DTEND:20221215T170000
SUMMARY:Taller familiar. Ninot de neu i postal de mà amb estampació
LOCATION:C. Bellavista 47-49 08755 Castellbisbal
METHOD:PUBLISH
X-WR-CALNAME:comunicacio@castellbisbal.cat
X-WR-TIMEZONE:Europe/Madrid
DESCRIPTION:De 17.00 a 18.00 h, a l'escola bressol La Caseta

URI:https://www.castellbisbal.cat/actualitat/agenda/taller-familiar-ninot-de-neu-i-postal-de-ma-amb-estampacio.html
CLASS:PUBLIC
END:VEVENT
END:VCALENDAR
