BEGIN:VCALENDAR
VERSION:2.0
CALSCALE:GREGORIAN
PRODID:-//Diputació de Barcelona//DibaCMS//EN
BEGIN:VEVENT
UID:15373
DTSTAMP:20260423T200112
DTSTART:20230504T170000
DTEND:20230504T170000
SUMMARY:Taller familiar. Experimentació amb els peus
LOCATION:C. Bellavista 47-49 08755 Castellbisbal
METHOD:PUBLISH
X-WR-CALNAME:comunicacio@castellbisbal.cat
X-WR-TIMEZONE:Europe/Madrid
DESCRIPTION:De 17.00 a 18.00 h, a l'escola bressol La Caseta

URI:https://www.castellbisbal.cat/actualitat/agenda/taller-familiar-experimentacio-amb-els-peus.html
CLASS:PUBLIC
END:VEVENT
END:VCALENDAR
