BEGIN:VCALENDAR
VERSION:2.0
CALSCALE:GREGORIAN
PRODID:-//Diputació de Barcelona//DibaCMS//EN
BEGIN:VEVENT
UID:15378
DTSTAMP:20260423T102429
DTSTART:20220923T090000
DTEND:20220923T090000
SUMMARY:Sessió pública de la Junta de Govern Local
LOCATION:Av. de Pau Casals 9 08755 Castellbisbal
METHOD:PUBLISH
X-WR-CALNAME:comunicacio@castellbisbal.cat
X-WR-TIMEZONE:Europe/Madrid
DESCRIPTION:A les 9.00 hores, a l'Ajuntament

URI:https://www.castellbisbal.cat/actualitat/agenda/15378-sessio-publica-de-la-junta-de-govern-local.html
CLASS:PUBLIC
END:VEVENT
END:VCALENDAR
