BEGIN:VCALENDAR
VERSION:2.0
CALSCALE:GREGORIAN
PRODID:-//Diputació de Barcelona//DibaCMS//EN
BEGIN:VEVENT
UID:15380
DTSTAMP:20260423T131334
DTSTART:20221017T090000
DTEND:20221017T090000
SUMMARY:Visita de l’equip del Síndic de Greuges
LOCATION:Plaça de l'Esglèsia, 2 08755 Castellbisbal
METHOD:PUBLISH
X-WR-CALNAME:comunicacio@castellbisbal.cat
X-WR-TIMEZONE:Europe/Madrid
DESCRIPTION:Atenció telemàtica o presencial, amb cita prèvia.

URI:https://www.castellbisbal.cat/actualitat/agenda/15380-visita-de-lequip-del-sindic-de-greuges.html
CLASS:PUBLIC
END:VEVENT
END:VCALENDAR
