BEGIN:VCALENDAR
VERSION:2.0
CALSCALE:GREGORIAN
PRODID:-//Diputació de Barcelona//DibaCMS//EN
BEGIN:VEVENT
UID:15382
DTSTAMP:20260423T170640
DTSTART:20221008T100000
DTEND:20221008T110000
SUMMARY:Excursió amb petites històries del món rural pota-roig
LOCATION:
METHOD:PUBLISH
X-WR-CALNAME:comunicacio@castellbisbal.cat
X-WR-TIMEZONE:Europe/Madrid
DESCRIPTION:Inici del recorregut davant les escales d'Els Costals a les 10.00 h, amb inscripció prèvia

URI:https://www.castellbisbal.cat/actualitat/agenda/excursio-amb-petites-histories-del-mon-rural-pota-roig.html
CLASS:PUBLIC
END:VEVENT
END:VCALENDAR
