BEGIN:VCALENDAR
VERSION:2.0
CALSCALE:GREGORIAN
PRODID:-//Diputació de Barcelona//DibaCMS//EN
BEGIN:VEVENT
UID:15403
DTSTAMP:20260424T130220
DTSTART:20221001T170000
DTEND:20221031T170000
SUMMARY:Participació. Mai mai...
LOCATION:Carrer Francesc Macià, 64 08755 Castellbisbal
METHOD:PUBLISH
X-WR-CALNAME:comunicacio@castellbisbal.cat
X-WR-TIMEZONE:Europe/Madrid
DESCRIPTION:Durant tot el mes d'octubre

URI:https://www.castellbisbal.cat/actualitat/agenda/participacio-mai-mai.html
CLASS:PUBLIC
END:VEVENT
END:VCALENDAR
