BEGIN:VCALENDAR
VERSION:2.0
CALSCALE:GREGORIAN
PRODID:-//Diputació de Barcelona//DibaCMS//EN
BEGIN:VEVENT
UID:15405
DTSTAMP:20260424T210532
DTSTART:20221020T170000
DTEND:20221020T200000
SUMMARY:Qui en dóna més?
LOCATION:Carrer Francesc Macià, 64 08755 Castellbisbal
METHOD:PUBLISH
X-WR-CALNAME:comunicacio@castellbisbal.cat
X-WR-TIMEZONE:Europe/Madrid
DESCRIPTION:De 17.00 a 19.00 h, al Punt d'Informació Juvenil

URI:https://www.castellbisbal.cat/actualitat/agenda/qui-en-dona-mes.html
CLASS:PUBLIC
END:VEVENT
END:VCALENDAR
