BEGIN:VCALENDAR
VERSION:2.0
CALSCALE:GREGORIAN
PRODID:-//Diputació de Barcelona//DibaCMS//EN
BEGIN:VEVENT
UID:15407
DTSTAMP:20260423T181647
DTSTART:20221019T170000
DTEND:20221019T180000
SUMMARY:"Qui és qui" mobilitat
LOCATION:Carrer Francesc Macià, 64 08755 Castellbisbal
METHOD:PUBLISH
X-WR-CALNAME:comunicacio@castellbisbal.cat
X-WR-TIMEZONE:Europe/Madrid
DESCRIPTION:De 17.00 a 18.00 h, al Punt d'Informació Juvenil

URI:https://www.castellbisbal.cat/actualitat/agenda/qui-es-qui-mobilitat.html
CLASS:PUBLIC
END:VEVENT
END:VCALENDAR
