BEGIN:VCALENDAR
VERSION:2.0
CALSCALE:GREGORIAN
PRODID:-//Diputació de Barcelona//DibaCMS//EN
BEGIN:VEVENT
UID:15408
DTSTAMP:20260424T105230
DTSTART:20221007T170000
DTEND:20221028T170000
SUMMARY:Lliga ping-pong
LOCATION:Carrer Francesc Macià, 64 08755 Castellbisbal
METHOD:PUBLISH
X-WR-CALNAME:comunicacio@castellbisbal.cat
X-WR-TIMEZONE:Europe/Madrid
DESCRIPTION:Cada divendres del mes d'octubre

URI:https://www.castellbisbal.cat/actualitat/agenda/lliga-ping-pong.html
CLASS:PUBLIC
END:VEVENT
END:VCALENDAR
