BEGIN:VCALENDAR
VERSION:2.0
CALSCALE:GREGORIAN
PRODID:-//Diputació de Barcelona//DibaCMS//EN
BEGIN:VEVENT
UID:15411
DTSTAMP:20260424T023601
DTSTART:20221001T120000
DTEND:20221001T120000
SUMMARY:1 d'octubre. Descoberta del monument commemoratiu
LOCATION:
METHOD:PUBLISH
X-WR-CALNAME:comunicacio@castellbisbal.cat
X-WR-TIMEZONE:Europe/Madrid
DESCRIPTION:A les 12:00 h, a la rotonda de l'1 d'octubre (davant el pavelló de l'Escola Montserrat)

URI:https://www.castellbisbal.cat/actualitat/agenda/1-doctubre-descoberta-del-monument-commemoratiu.html
CLASS:PUBLIC
END:VEVENT
END:VCALENDAR
