BEGIN:VCALENDAR
VERSION:2.0
CALSCALE:GREGORIAN
PRODID:-//Diputació de Barcelona//DibaCMS//EN
BEGIN:VEVENT
UID:15424
DTSTAMP:20260425T001641
DTSTART:20221008T110000
DTEND:20221008T140000
SUMMARY:Arribada i activitats a Can Pedrerol de Dalt
LOCATION:
METHOD:PUBLISH
X-WR-CALNAME:comunicacio@castellbisbal.cat
X-WR-TIMEZONE:Europe/Madrid
DESCRIPTION:A les 11.00 h, a Can Pedrerol de Dalt

URI:https://www.castellbisbal.cat/actualitat/agenda/arribada-i-activitats-a-can-pedrerol-de-dalt.html
CLASS:PUBLIC
END:VEVENT
END:VCALENDAR
