BEGIN:VCALENDAR
VERSION:2.0
CALSCALE:GREGORIAN
PRODID:-//Diputació de Barcelona//DibaCMS//EN
BEGIN:VEVENT
UID:15427
DTSTAMP:20260423T170707
DTSTART:20221010T183000
DTEND:20221010T183000
SUMMARY:Resposta emocional en situacions crítiques
LOCATION:Av. de Pau Casals, 9 08755 Castellbisbal
METHOD:PUBLISH
X-WR-CALNAME:comunicacio@castellbisbal.cat
X-WR-TIMEZONE:Europe/Madrid
DESCRIPTION:A les 18:30 h, a la Sala d'actes de l'Ajuntament

URI:https://www.castellbisbal.cat/actualitat/agenda/resposta-emocional-en-situacions-critiques.html
CLASS:PUBLIC
END:VEVENT
END:VCALENDAR
