BEGIN:VCALENDAR
VERSION:2.0
CALSCALE:GREGORIAN
PRODID:-//Diputació de Barcelona//DibaCMS//EN
BEGIN:VEVENT
UID:15434
DTSTAMP:20260424T112223
DTSTART:20221107T090000
DTEND:20221107T090000
SUMMARY:Curs bàsic de manipulador d'aliments
LOCATION:Avinguda de Pau Casals, 9 08755 Castellbisbal
METHOD:PUBLISH
X-WR-CALNAME:comunicacio@castellbisbal.cat
X-WR-TIMEZONE:Europe/Madrid
DESCRIPTION:Dos horaris, de 9.00 a 12.00 h o de 15.00 a 18.00 h, a la Sala de plens de l'Ajuntament

URI:https://www.castellbisbal.cat/actualitat/agenda/15434-curs-basic-de-manipulador-daliments.html
CLASS:PUBLIC
END:VEVENT
END:VCALENDAR
