BEGIN:VCALENDAR
VERSION:2.0
CALSCALE:GREGORIAN
PRODID:-//Diputació de Barcelona//DibaCMS//EN
BEGIN:VEVENT
UID:15437
DTSTAMP:20260423T131228
DTSTART:20221027T170000
DTEND:20221027T170000
SUMMARY:L'hora del cafè. Els límits: quins, quants, com?
LOCATION:C. Bellavista 47-49 08755 Castellbisbal
METHOD:PUBLISH
X-WR-CALNAME:comunicacio@castellbisbal.cat
X-WR-TIMEZONE:Europe/Madrid
DESCRIPTION:A les 17.00 h, a l'Escola Municipal Bressol La Caseta

URI:https://www.castellbisbal.cat/actualitat/agenda/lhora-del-cafe-els-limits-quins-quants-com.html
CLASS:PUBLIC
END:VEVENT
END:VCALENDAR
