BEGIN:VCALENDAR
VERSION:2.0
CALSCALE:GREGORIAN
PRODID:-//Diputació de Barcelona//DibaCMS//EN
BEGIN:VEVENT
UID:15440
DTSTAMP:20260424T112533
DTSTART:20221028T170000
DTEND:20221028T200000
SUMMARY:Ball de disfresses de Halloween
LOCATION:C. de Sant Mateu, 20 08755 Castellbisbal
METHOD:PUBLISH
X-WR-CALNAME:comunicacio@castellbisbal.cat
X-WR-TIMEZONE:Europe/Madrid
DESCRIPTION:De 17.00 a 20.00 h, a l'Escola Benviure

URI:https://www.castellbisbal.cat/actualitat/agenda/ball-de-disfresses-de-halloween.html
CLASS:PUBLIC
END:VEVENT
END:VCALENDAR
