BEGIN:VCALENDAR
VERSION:2.0
CALSCALE:GREGORIAN
PRODID:-//Diputació de Barcelona//DibaCMS//EN
BEGIN:VEVENT
UID:15441
DTSTAMP:20260424T151029
DTSTART:20221202T163000
DTEND:20221202T163000
SUMMARY:Festa de l'encesa dels llums de Nadal
LOCATION:
METHOD:PUBLISH
X-WR-CALNAME:comunicacio@castellbisbal.cat
X-WR-TIMEZONE:Europe/Madrid
DESCRIPTION:A partir de les 16.30 h, inici a la plaça de Lluís Companys

URI:https://www.castellbisbal.cat/actualitat/agenda/festa-de-lencesa-dels-llums-de-nadal.html
CLASS:PUBLIC
END:VEVENT
END:VCALENDAR
