BEGIN:VCALENDAR
VERSION:2.0
CALSCALE:GREGORIAN
PRODID:-//Diputació de Barcelona//DibaCMS//EN
BEGIN:VEVENT
UID:15448
DTSTAMP:20260424T115831
DTSTART:20221105T090000
DTEND:20221105T200000
SUMMARY:IV Mercagini
LOCATION:Carrer Montjuic, 14-20 08755 Castellbisbal
METHOD:PUBLISH
X-WR-CALNAME:comunicacio@castellbisbal.cat
X-WR-TIMEZONE:Europe/Madrid
DESCRIPTION:De 9.00 a 20.00 h, al Centre cívic Santeugini

URI:https://www.castellbisbal.cat/actualitat/agenda/iv-mercagini.html
CLASS:PUBLIC
END:VEVENT
END:VCALENDAR
