BEGIN:VCALENDAR
VERSION:2.0
CALSCALE:GREGORIAN
PRODID:-//Diputació de Barcelona//DibaCMS//EN
BEGIN:VEVENT
UID:15449
DTSTAMP:20260423T184651
DTSTART:20221014T000000
DTEND:20221029T000000
SUMMARY:Quart concurs de relats de ciencia ficció, terror i fantasia
LOCATION:
METHOD:PUBLISH
X-WR-CALNAME:comunicacio@castellbisbal.cat
X-WR-TIMEZONE:Europe/Madrid
DESCRIPTION:Fins al 29 d'octubre

URI:https://www.castellbisbal.cat/actualitat/agenda/quart-concurs-de-relats-de-ciencia-ficcio-terror-i-fantasia.html
CLASS:PUBLIC
END:VEVENT
END:VCALENDAR
