BEGIN:VCALENDAR
VERSION:2.0
CALSCALE:GREGORIAN
PRODID:-//Diputació de Barcelona//DibaCMS//EN
BEGIN:VEVENT
UID:15450
DTSTAMP:20260424T105015
DTSTART:20221015T120000
DTEND:20221015T120000
SUMMARY:El globus vermell
LOCATION:Plaça de l'Església 08755 Castellbisbal
METHOD:PUBLISH
X-WR-CALNAME:comunicacio@castellbisbal.cat
X-WR-TIMEZONE:Europe/Madrid
DESCRIPTION:A les 12.00 h, al Pati de l'Esbarjo

URI:https://www.castellbisbal.cat/actualitat/agenda/el-globus-vermell.html
CLASS:PUBLIC
END:VEVENT
END:VCALENDAR
