BEGIN:VCALENDAR
VERSION:2.0
CALSCALE:GREGORIAN
PRODID:-//Diputació de Barcelona//DibaCMS//EN
BEGIN:VEVENT
UID:15451
DTSTAMP:20260423T151753
DTSTART:20221112T000000
DTEND:20221112T000000
SUMMARY:Viatge a Camprodon i Setcases
LOCATION:
METHOD:PUBLISH
X-WR-CALNAME:comunicacio@castellbisbal.cat
X-WR-TIMEZONE:Europe/Madrid
DESCRIPTION:Dissabte, 12 de novembre

URI:https://www.castellbisbal.cat/actualitat/agenda/viatge-a-camprodon-i-setcases.html
CLASS:PUBLIC
END:VEVENT
END:VCALENDAR
