BEGIN:VCALENDAR
VERSION:2.0
CALSCALE:GREGORIAN
PRODID:-//Diputació de Barcelona//DibaCMS//EN
BEGIN:VEVENT
UID:15454
DTSTAMP:20260424T203359
DTSTART:20221023T180000
DTEND:20221023T180000
SUMMARY:Espectacle teatral. Tigres amb Molta Comèdia
LOCATION:Av. de Pau Casals, 16 08755 Castellbisbal
METHOD:PUBLISH
X-WR-CALNAME:comunicacio@castellbisbal.cat
X-WR-TIMEZONE:Europe/Madrid
DESCRIPTION:A les 18:00 h, a l'Auditori d'Els Costals

URI:https://www.castellbisbal.cat/actualitat/agenda/15454-espectacle-teatral-tigres-amb-molta-comedia.html
CLASS:PUBLIC
END:VEVENT
END:VCALENDAR
