BEGIN:VCALENDAR
VERSION:2.0
CALSCALE:GREGORIAN
PRODID:-//Diputació de Barcelona//DibaCMS//EN
BEGIN:VEVENT
UID:15455
DTSTAMP:20260423T213843
DTSTART:20221024T000000
DTEND:20221026T000000
SUMMARY:VI Corretapes: sorteig
LOCATION:
METHOD:PUBLISH
X-WR-CALNAME:comunicacio@castellbisbal.cat
X-WR-TIMEZONE:Europe/Madrid
DESCRIPTION:Del 24 al 26 d'octubre

URI:https://www.castellbisbal.cat/actualitat/agenda/vi-corretapes-sorteig.html
CLASS:PUBLIC
END:VEVENT
END:VCALENDAR
