BEGIN:VCALENDAR
VERSION:2.0
CALSCALE:GREGORIAN
PRODID:-//Diputació de Barcelona//DibaCMS//EN
BEGIN:VEVENT
UID:15457
DTSTAMP:20260423T234011
DTSTART:20221111T213000
DTEND:20221111T213000
SUMMARY:Comèdia teatral. Els veïns de dalt amb l'Elenc Teatral
LOCATION:Av. de Pau Casals, 16 08755 Castellbisbal
METHOD:PUBLISH
X-WR-CALNAME:comunicacio@castellbisbal.cat
X-WR-TIMEZONE:Europe/Madrid
DESCRIPTION:A les 21.30 h, a l'Auditori d'Els Costals

URI:https://www.castellbisbal.cat/actualitat/agenda/15457-comedia-teatral-els-veins-de-dalt-amb-lelenc-teatral.html
CLASS:PUBLIC
END:VEVENT
END:VCALENDAR
