BEGIN:VCALENDAR
VERSION:2.0
CALSCALE:GREGORIAN
PRODID:-//Diputació de Barcelona//DibaCMS//EN
BEGIN:VEVENT
UID:15460
DTSTAMP:20260423T195812
DTSTART:20221026T170000
DTEND:20221026T170000
SUMMARY:Escape room. Castellbisbal medieval
LOCATION:08755 Castellbisbal
METHOD:PUBLISH
X-WR-CALNAME:comunicacio@castellbisbal.cat
X-WR-TIMEZONE:Europe/Madrid
DESCRIPTION:Dues sessions, a les 17.00 i a les 18.00 h, a la plaça de l'Església

URI:https://www.castellbisbal.cat/actualitat/agenda/15460-escape-room-castellbisbal-medieval.html
CLASS:PUBLIC
END:VEVENT
END:VCALENDAR
