BEGIN:VCALENDAR
VERSION:2.0
CALSCALE:GREGORIAN
PRODID:-//Diputació de Barcelona//DibaCMS//EN
BEGIN:VEVENT
UID:15471
DTSTAMP:20260423T164702
DTSTART:20221112T180000
DTEND:20221112T180000
SUMMARY:XVII edició de la pedalada BTT la Nocturna
LOCATION:
METHOD:PUBLISH
X-WR-CALNAME:comunicacio@castellbisbal.cat
X-WR-TIMEZONE:Europe/Madrid
DESCRIPTION:Sortida a les 18.00 h, a la plaça Folch i Torres

URI:https://www.castellbisbal.cat/actualitat/agenda/xvii-edicio-de-la-pedalada-btt-la-nocturna.html
CLASS:PUBLIC
END:VEVENT
END:VCALENDAR
