BEGIN:VCALENDAR
VERSION:2.0
CALSCALE:GREGORIAN
PRODID:-//Diputació de Barcelona//DibaCMS//EN
BEGIN:VEVENT
UID:15481
DTSTAMP:20260423T182501
DTSTART:20221031T190000
DTEND:20221031T190000
SUMMARY:Ple municipal ordinari del mes d'octubre
LOCATION:Avinguda de Pau Casals, 9 08755 Castellbisbal
METHOD:PUBLISH
X-WR-CALNAME:comunicacio@castellbisbal.cat
X-WR-TIMEZONE:Europe/Madrid
DESCRIPTION:A les 19.00 h, a la sala de plens de l'Ajuntament

URI:https://www.castellbisbal.cat/actualitat/agenda/ple-municipal-ordinari-del-mes-doctubre.html
CLASS:PUBLIC
END:VEVENT
END:VCALENDAR
