BEGIN:VCALENDAR
VERSION:2.0
CALSCALE:GREGORIAN
PRODID:-//Diputació de Barcelona//DibaCMS//EN
BEGIN:VEVENT
UID:15484
DTSTAMP:20260423T163053
DTSTART:20221103T173000
DTEND:20221103T173000
SUMMARY:Activitat. Jugues?
LOCATION:Carrer Francesc Macià, 64 08755 Castellbisbal
METHOD:PUBLISH
X-WR-CALNAME:comunicacio@castellbisbal.cat
X-WR-TIMEZONE:Europe/Madrid
DESCRIPTION:De 17:30 a 19.30 h, al Punt d'informació Juvenil

URI:https://www.castellbisbal.cat/actualitat/agenda/activitat-jugues.html
CLASS:PUBLIC
END:VEVENT
END:VCALENDAR
