BEGIN:VCALENDAR
VERSION:2.0
CALSCALE:GREGORIAN
PRODID:-//Diputació de Barcelona//DibaCMS//EN
BEGIN:VEVENT
UID:15504
DTSTAMP:20260424T163548
DTSTART:20221118T170000
DTEND:20221118T170000
SUMMARY:Tapes i aperitius saborosos i d'aprofitament
LOCATION:Avinguda de Pau Casals, 9 08755 Castellbisbal
METHOD:PUBLISH
X-WR-CALNAME:comunicacio@castellbisbal.cat
X-WR-TIMEZONE:Europe/Madrid
DESCRIPTION:A les 17.00 h, a la Sala de plens de l'Ajuntament

URI:https://www.castellbisbal.cat/actualitat/agenda/tapes-i-aperitius-saborosos-i-daprofitament.html
CLASS:PUBLIC
END:VEVENT
END:VCALENDAR
