BEGIN:VCALENDAR
VERSION:2.0
CALSCALE:GREGORIAN
PRODID:-//Diputació de Barcelona//DibaCMS//EN
BEGIN:VEVENT
UID:15506
DTSTAMP:20260423T180845
DTSTART:20221126T100000
DTEND:20221126T100000
SUMMARY:Taller de compostatge
LOCATION:Avinguda de Pau Casals, 9 08755 Castellbisbal
METHOD:PUBLISH
X-WR-CALNAME:comunicacio@castellbisbal.cat
X-WR-TIMEZONE:Europe/Madrid
DESCRIPTION:A les 10.00 h, a la Sala de plens de l'Ajuntament

URI:https://www.castellbisbal.cat/actualitat/agenda/taller-de-compostatge.html
CLASS:PUBLIC
END:VEVENT
END:VCALENDAR
