BEGIN:VCALENDAR
VERSION:2.0
CALSCALE:GREGORIAN
PRODID:-//Diputació de Barcelona//DibaCMS//EN
BEGIN:VEVENT
UID:15507
DTSTAMP:20260424T210726
DTSTART:20221126T100000
DTEND:20221126T100000
SUMMARY:Petits arranjaments de roba
LOCATION:Pl. Lluís Companys, 2 08755 Castellbisbal
METHOD:PUBLISH
X-WR-CALNAME:comunicacio@castellbisbal.cat
X-WR-TIMEZONE:Europe/Madrid
DESCRIPTION:A les 10.00 h, al Punt Verd

URI:https://www.castellbisbal.cat/actualitat/agenda/15507-petits-arranjaments-de-roba.html
CLASS:PUBLIC
END:VEVENT
END:VCALENDAR
