BEGIN:VCALENDAR
VERSION:2.0
CALSCALE:GREGORIAN
PRODID:-//Diputació de Barcelona//DibaCMS//EN
BEGIN:VEVENT
UID:15508
DTSTAMP:20260425T014517
DTSTART:20221118T000000
DTEND:20221129T000000
SUMMARY:Campanya de recollida de roba d'infants i nadons
LOCATION:
METHOD:PUBLISH
X-WR-CALNAME:comunicacio@castellbisbal.cat
X-WR-TIMEZONE:Europe/Madrid
DESCRIPTION:Del 18 al 29 de novembre, als centres d'educació infantil i primària i al Punt Verd

URI:https://www.castellbisbal.cat/actualitat/agenda/campanya-de-recollida-de-roba-dinfants-i-nadons.html
CLASS:PUBLIC
END:VEVENT
END:VCALENDAR
