BEGIN:VCALENDAR
VERSION:2.0
CALSCALE:GREGORIAN
PRODID:-//Diputació de Barcelona//DibaCMS//EN
BEGIN:VEVENT
UID:15526
DTSTAMP:20260424T133458
DTSTART:20221128T000000
DTEND:20221222T000000
SUMMARY:Recollida de joguines. Cap infant fora de joc
LOCATION:C. Major, 103 08755 Castellbisbal
METHOD:PUBLISH
X-WR-CALNAME:comunicacio@castellbisbal.cat
X-WR-TIMEZONE:Europe/Madrid
DESCRIPTION:Punt únic de recollida a Can Margarit

URI:https://www.castellbisbal.cat/actualitat/agenda/15526-recollida-de-joguines-cap-infant-fora-de-joc.html
CLASS:PUBLIC
END:VEVENT
END:VCALENDAR
