BEGIN:VCALENDAR
VERSION:2.0
CALSCALE:GREGORIAN
PRODID:-//Diputació de Barcelona//DibaCMS//EN
BEGIN:VEVENT
UID:15533
DTSTAMP:20260423T180833
DTSTART:20221129T180000
DTEND:20221129T180000
SUMMARY:Taller. Elaboració de llacets
LOCATION:Carrer Francesc Macià, 64 08755 Castellbisbal
METHOD:PUBLISH
X-WR-CALNAME:comunicacio@castellbisbal.cat
X-WR-TIMEZONE:Europe/Madrid
DESCRIPTION:De 18.00 a 19.30 h, a l'Espai Jove

URI:https://www.castellbisbal.cat/actualitat/agenda/taller-elaboracio-de-llacets.html
CLASS:PUBLIC
END:VEVENT
END:VCALENDAR
