BEGIN:VCALENDAR
VERSION:2.0
CALSCALE:GREGORIAN
PRODID:-//Diputació de Barcelona//DibaCMS//EN
BEGIN:VEVENT
UID:15534
DTSTAMP:20260425T001711
DTSTART:20221201T180000
DTEND:20221201T180000
SUMMARY:Videofòrum
LOCATION:Carrer Francesc Macià, 64 08755 Castellbisbal
METHOD:PUBLISH
X-WR-CALNAME:comunicacio@castellbisbal.cat
X-WR-TIMEZONE:Europe/Madrid
DESCRIPTION:De 18.00 a 19.30 h, a l'Espai Jove

URI:https://www.castellbisbal.cat/actualitat/agenda/videoforum.html
CLASS:PUBLIC
END:VEVENT
END:VCALENDAR
