BEGIN:VCALENDAR
VERSION:2.0
CALSCALE:GREGORIAN
PRODID:-//Diputació de Barcelona//DibaCMS//EN
BEGIN:VEVENT
UID:15536
DTSTAMP:20260423T213633
DTSTART:20221122T000000
DTEND:20230122T000000
SUMMARY:Exposició. Projecte sostres: qui és la llar de les persones sense llar?
LOCATION:Av. de Pau Casals, 16 08755 Castellbisbal
METHOD:PUBLISH
X-WR-CALNAME:comunicacio@castellbisbal.cat
X-WR-TIMEZONE:Europe/Madrid
DESCRIPTION:Obert quian hi hagi activitat a l'auditori, exposició al vestíbul de dalt d'Els Costals

URI:https://www.castellbisbal.cat/actualitat/agenda/exposicio-projecte-sostres-qui-es-la-llar-de-les-persones-sense-llar.html
CLASS:PUBLIC
END:VEVENT
END:VCALENDAR
