BEGIN:VCALENDAR
VERSION:2.0
CALSCALE:GREGORIAN
PRODID:-//Diputació de Barcelona//DibaCMS//EN
BEGIN:VEVENT
UID:15537
DTSTAMP:20260424T201913
DTSTART:20221122T091500
DTEND:20221122T091500
SUMMARY:Com millorar el teu benestar corporal per a la teva recerca de feina
LOCATION:
METHOD:PUBLISH
X-WR-CALNAME:comunicacio@castellbisbal.cat
X-WR-TIMEZONE:Europe/Madrid
DESCRIPTION:Segona sessió, de 9.15 a 14.15 h

URI:https://www.castellbisbal.cat/actualitat/agenda/15537-com-millorar-el-teu-benestar-corporal-per-a-la-teva-recerca-de-feina.html
CLASS:PUBLIC
END:VEVENT
END:VCALENDAR
