BEGIN:VCALENDAR
VERSION:2.0
CALSCALE:GREGORIAN
PRODID:-//Diputació de Barcelona//DibaCMS//EN
BEGIN:VEVENT
UID:15542
DTSTAMP:20260424T003708
DTSTART:20221119T220000
DTEND:20221119T220000
SUMMARY:Música dels anys 70's, 80's i 90's
LOCATION:Av. de Pau Casals 7 08755 Castellbisbal
METHOD:PUBLISH
X-WR-CALNAME:comunicacio@castellbisbal.cat
X-WR-TIMEZONE:Europe/Madrid
DESCRIPTION:A les 22.00 h, al Casal Cultural i Recreatiu de Castellbisbal

URI:https://www.castellbisbal.cat/actualitat/agenda/musica-dels-anys-70s-80s-i-90s.html
CLASS:PUBLIC
END:VEVENT
END:VCALENDAR
