BEGIN:VCALENDAR
VERSION:2.0
CALSCALE:GREGORIAN
PRODID:-//Diputació de Barcelona//DibaCMS//EN
BEGIN:VEVENT
UID:15589
DTSTAMP:20260424T103744
DTSTART:20230105T183000
DTEND:20230105T183000
SUMMARY:Cavalcada dels Reis d'Orient
LOCATION:08755 Castellbisbal
METHOD:PUBLISH
X-WR-CALNAME:comunicacio@castellbisbal.cat
X-WR-TIMEZONE:Europe/Madrid
DESCRIPTION:A partir de les 18.30 h, inici de recorregut a la cruïlla av. Sant Vicenç amb c/ Major

URI:https://www.castellbisbal.cat/actualitat/agenda/15589-cavalcada-dels-reis-dorient.html
CLASS:PUBLIC
END:VEVENT
END:VCALENDAR
